BEGIN:VCALENDAR
VERSION:2.0
PRODID:-//wp-events-plugin.com//7.2.3.1//EN
TZID:Europe/Berlin
X-WR-TIMEZONE:Europe/Berlin
BEGIN:VEVENT
UID:2@partei-nds.de
DTSTART;TZID=Europe/Berlin:20250606T190000
DTEND;TZID=Europe/Berlin:20260605T235900
DTSTAMP:20250629T102203Z
URL:https://partei-nds.de/events/stammtisch-wilhelmshaven/
SUMMARY:Stammtisch Wilhelmshaven
DESCRIPTION:Offenes Treffen für Mitglieder\, Nicht-Mitglieder und Noch-Nic
 ht-Mitglieder
CATEGORIES:Stammtisch
LOCATION:Friesenstube\,  Peterstraße 164\, Wilhelmshaven\, 26389\, Deutsch
 land
X-APPLE-STRUCTURED-LOCATION;VALUE=URI;X-ADDRESS= Peterstraße 164\, Wilhelm
 shaven\, 26389\, Deutschland;X-APPLE-RADIUS=100;X-TITLE=Friesenstube:geo:0
 ,0
END:VEVENT
BEGIN:VTIMEZONE
TZID:Europe/Berlin
X-LIC-LOCATION:Europe/Berlin
BEGIN:DAYLIGHT
DTSTART:20250330T030000
TZOFFSETFROM:+0100
TZOFFSETTO:+0200
TZNAME:CEST
END:DAYLIGHT
BEGIN:STANDARD
DTSTART:20251026T020000
TZOFFSETFROM:+0200
TZOFFSETTO:+0100
TZNAME:CET
END:STANDARD
BEGIN:DAYLIGHT
DTSTART:20260329T030000
TZOFFSETFROM:+0100
TZOFFSETTO:+0200
TZNAME:CEST
END:DAYLIGHT
END:VTIMEZONE
END:VCALENDAR